BEGIN:VCALENDAR
VERSION:2.0
PRODID:-//Saalfelden-Leogang.com//NONSGML kigkonsult.se iCalcreator 2.22.1/
 /EN
METHOD:PUBLISH
X-WR-CALNAME;LANGUAGE=en:Saalfelden-Leogang.com
X-WR-CALDESC;LANGUAGE=en:Saalfelden-Leogang.com
X-WR-TIMEZONE;LANGUAGE=en:Europe/Berlin
BEGIN:VEVENT
UID:20260421T140413CEST-7814Vfvawx@Saalfelden-Leogang.com
DTSTAMP:20260421T120413Z
DESCRIPTION;LANGUAGE=en:Austria\n\n\n\nTamina Mayrwöger – vocals\n\nChristo
 ph Dedl – guitar\n\nBenjamin Mayr – bass\n\nJakob Mayr – trombone\n\nFabia
 n Sparlinek – keys\n\nEdin Sudar – percussion\, backing vocals\n\nLukas Sc
 hönböck – drums\n\nRainer Gutternigg – trumpet\, violin\n\n\n\nThis band h
 as everything it takes: Schmalz\, attitude and sexiness! Mojo Incorporatio
 n breathes the spirit of the sixties and seventies\, but lives fully in th
 e present. Carried by the charismatic voice of lead singer Tamina Mayrwöge
 r\, the seven gentlemen who love to play\, with strong horns and a powerfu
 l rhythm section. They bring a sound to the stage that elegantly combines 
 the power of the blues\, the message of soul and the sex of funk. The band
  guarantees the perfect product for heart\, brain and legs - in the studio
  as well as live on stage! Because Mojo is a dish best served hot. Yummy! 
 \n\n\n\nIn keeping with the 45th Jazz Festival in Saalfelden\, the mama th
 resl also gets the party started: at the casual jazz brunch. The power of 
 the blues\, the message of soul and the sex of funk Funk paired with tasty
  treats from the mama thresl kitchen. \n\n\n\n_____________\n\n\n\nFree co
 ncert at the Mama Thresl \n\nTable reservation under 06583 20800 recommend
 ed!\n\n\n\n\n\nPresented by Mama Thresl
DTSTART:20250822T090000Z
DTEND:20250822T110000Z
LOCATION;LANGUAGE=en:Mama Thresl 
SUMMARY;LANGUAGE=en:JAZZ BRUNCH MIT MOJO INCORPORATION
END:VEVENT
END:VCALENDAR
